BEGIN:VCALENDAR
VERSION:2.0
PRODID:-//ZContent.net//ZapCalLib 1.0//EN
CALSCALE:GREGORIAN
METHOD:PUBLISH
BEGIN:VEVENT
SUMMARY:Pussy Riots  | Frauen/Körper/Protest/Kultur
DTSTART:20121121T190000
DTEND:20121121T210000
UID:2026-04-23-12-08-08-0-@calendar.boell.de
DTSTAMP:20260423T100808
DESCRIPTION:Landesstiftung Sachsen (Weiterdenken)
END:VEVENT
END:VCALENDAR
