BEGIN:VCALENDAR
VERSION:2.0
PRODID:-//ZContent.net//ZapCalLib 1.0//EN
CALSCALE:GREGORIAN
METHOD:PUBLISH
BEGIN:VEVENT
SUMMARY:PraktikantInnen StartUp (3601-13) | Unsere Einstiegshilfe ins Prakt
 ikum
DTSTART:20130906T150000
DTEND:20130908T150000
UID:2026-04-23-17-38-27-0-@calendar.boell.de
DTSTAMP:20260423T153827
DESCRIPTION:Landesstiftung Nordrhein-Westfalen
END:VEVENT
END:VCALENDAR
