BEGIN:VCALENDAR
VERSION:2.0
PRODID:-//ZContent.net//ZapCalLib 1.0//EN
CALSCALE:GREGORIAN
METHOD:PUBLISH
BEGIN:VEVENT
SUMMARY:Rosa Yassin Hassan: „Wächter der Lüfte“ - eine Lesung
DTSTART:20121128T193000
DTEND:20121128T213000
UID:2026-04-23-13-05-58-0-@calendar.boell.de
DTSTAMP:20260423T110558
DESCRIPTION:Heinrich-Böll-Stiftung - Bundesstiftung Berlin
END:VEVENT
END:VCALENDAR
