BEGIN:VCALENDAR
VERSION:2.0
PRODID:-//ZContent.net//ZapCalLib 1.0//EN
CALSCALE:GREGORIAN
METHOD:PUBLISH
BEGIN:VEVENT
SUMMARY:AG GEIGE - EIN AMATEURFILM | Filmvorführung und Gespräch mit Cars
 ten Gebhardt (Regisseur) und Jan Kummer (AG Geige)
DTSTART:20121130T200000
DTEND:20121130T230000
UID:2026-04-23-13-05-19-0-@calendar.boell.de
DTSTAMP:20260423T110519
DESCRIPTION:Landesstiftung Thüringen
END:VEVENT
END:VCALENDAR
