BEGIN:VCALENDAR
VERSION:2.0
PRODID:-//ZContent.net//ZapCalLib 1.0//EN
CALSCALE:GREGORIAN
METHOD:PUBLISH
BEGIN:VEVENT
SUMMARY:Institutioneller und struktureller Rassismus in Deutschland 
DTSTART:20121122T140000
DTEND:20121122T200000
UID:2026-04-25-00-59-51-0-@calendar.boell.de
DTSTAMP:20260424T225951
DESCRIPTION:Heinrich-Böll-Stiftung - Bundesstiftung Berlin
END:VEVENT
END:VCALENDAR
