BEGIN:VCALENDAR
VERSION:2.0
PRODID:-//ZContent.net//ZapCalLib 1.0//EN
CALSCALE:GREGORIAN
METHOD:PUBLISH
BEGIN:VEVENT
SUMMARY:Auto 3.0 – Die Zukunft der Automobilindustrie | Fachkongress
DTSTART:20130131T130000
DTEND:20130201T143000
UID:2026-04-25-01-01-28-0-@calendar.boell.de
DTSTAMP:20260424T230128
DESCRIPTION:Heinrich-Böll-Stiftung - Bundesstiftung Berlin
END:VEVENT
END:VCALENDAR
