BEGIN:VCALENDAR
VERSION:2.0
PRODID:-//ZContent.net//ZapCalLib 1.0//EN
CALSCALE:GREGORIAN
METHOD:PUBLISH
BEGIN:VEVENT
SUMMARY:Neonazismus in Sachsen | Statusberichte, Handlungsbedarf und hoffnu
 ngsvolle Ansätze
DTSTART:20121214T143000
DTEND:20121214T211500
UID:2026-04-25-12-35-21-0-@calendar.boell.de
DTSTAMP:20260425T103521
DESCRIPTION:Landesstiftung Sachsen (Weiterdenken)
END:VEVENT
END:VCALENDAR
