BEGIN:VCALENDAR
VERSION:2.0
PRODID:-//ZContent.net//ZapCalLib 1.0//EN
CALSCALE:GREGORIAN
METHOD:PUBLISH
BEGIN:VEVENT
SUMMARY:[Ausgebucht] GRENZGĂ„NGE WEST (3002-13) | Ein Bildungsurlaub von BĂ
 –LL NRW
DTSTART:20130826T100000
DTEND:20130830T170000
UID:2026-04-24-01-22-54-0-@calendar.boell.de
DTSTAMP:20260423T232254
DESCRIPTION:Landesstiftung Nordrhein-Westfalen
END:VEVENT
END:VCALENDAR
