BEGIN:VCALENDAR
VERSION:2.0
PRODID:-//ZContent.net//ZapCalLib 1.0//EN
CALSCALE:GREGORIAN
METHOD:PUBLISH
BEGIN:VEVENT
SUMMARY:Podiumsmoderation
DTSTART:20130614T100000
DTEND:20130615T180000
UID:2026-04-25-13-08-09-0-@calendar.boell.de
DTSTAMP:20260425T110809
DESCRIPTION:Landesstiftung Hamburg
END:VEVENT
END:VCALENDAR
