BEGIN:VCALENDAR
VERSION:2.0
PRODID:-//ZContent.net//ZapCalLib 1.0//EN
CALSCALE:GREGORIAN
METHOD:PUBLISH
BEGIN:VEVENT
SUMMARY:Rhetorik | Überzeugend argumentieren / Grundlagen und Formen der p
 olitischen Rede
DTSTART:20130615T100000
DTEND:20130615T170000
UID:2026-04-23-04-49-11-0-@calendar.boell.de
DTSTAMP:20260423T024911
DESCRIPTION:Landesstiftung Schleswig-Holstein
END:VEVENT
END:VCALENDAR
