BEGIN:VCALENDAR
VERSION:2.0
PRODID:-//ZContent.net//ZapCalLib 1.0//EN
CALSCALE:GREGORIAN
METHOD:PUBLISH
BEGIN:VEVENT
SUMMARY:Körper-, Stimm- und Sprechtraining
DTSTART:20130126T100000
DTEND:20130126T170000
UID:2026-04-24-20-57-13-0-@calendar.boell.de
DTSTAMP:20260424T185713
DESCRIPTION:Landesstiftung Schleswig-Holstein
END:VEVENT
END:VCALENDAR
