BEGIN:VCALENDAR
VERSION:2.0
PRODID:-//ZContent.net//ZapCalLib 1.0//EN
CALSCALE:GREGORIAN
METHOD:PUBLISH
BEGIN:VEVENT
SUMMARY:Präsentationstraining
DTSTART:20130223T100000
DTEND:20130223T170000
UID:2026-04-24-01-23-50-0-@calendar.boell.de
DTSTAMP:20260423T232350
DESCRIPTION:Landesstiftung Schleswig-Holstein
END:VEVENT
END:VCALENDAR
