BEGIN:VCALENDAR
VERSION:2.0
PRODID:-//ZContent.net//ZapCalLib 1.0//EN
CALSCALE:GREGORIAN
METHOD:PUBLISH
BEGIN:VEVENT
SUMMARY:Zeit- und Selbstmanagement | â€žWie schnell doch die Zeit vergeht!â
 €œ
DTSTART:20130601T100000
DTEND:20130601T170000
UID:2026-04-24-21-48-35-0-@calendar.boell.de
DTSTAMP:20260424T194835
DESCRIPTION:Landesstiftung Schleswig-Holstein
END:VEVENT
END:VCALENDAR
