BEGIN:VCALENDAR
VERSION:2.0
PRODID:-//ZContent.net//ZapCalLib 1.0//EN
CALSCALE:GREGORIAN
METHOD:PUBLISH
BEGIN:VEVENT
SUMMARY:Kritische Tage zum herrschenden Geschlechtsverhältnis | Vorträge,
  Workshops, Diskussionen, Filme, veganes Essen, Schlafplätze
DTSTART:20121130T180000
DTEND:20121202T140000
UID:2026-04-24-03-25-50-0-@calendar.boell.de
DTSTAMP:20260424T012550
DESCRIPTION:
END:VEVENT
END:VCALENDAR
