BEGIN:VCALENDAR
VERSION:2.0
PRODID:-//ZContent.net//ZapCalLib 1.0//EN
CALSCALE:GREGORIAN
METHOD:PUBLISH
BEGIN:VEVENT
SUMMARY:Antifa-Arbeit im ehemaligen Jugoslawien | Diskussionsveranstaltung 
 mit Antifa-Aktivist_innen aus dem ehemaligen Jugoslawien
DTSTART:20121123T190000
DTEND:20121123T210000
UID:2026-04-23-17-56-53-0-@calendar.boell.de
DTSTAMP:20260423T155653
DESCRIPTION:Landesstiftung Berlin (Bildungswerk)
END:VEVENT
END:VCALENDAR
