BEGIN:VCALENDAR
VERSION:2.0
PRODID:-//ZContent.net//ZapCalLib 1.0//EN
CALSCALE:GREGORIAN
METHOD:PUBLISH
BEGIN:VEVENT
SUMMARY:The Renewable Energy Revolution – Lessons Applied in the Middle E
 ast and Africa | Official Side Event at COP18 
DTSTART:20121130T131500
DTEND:20121130T144500
UID:2026-04-24-06-42-29-0-@calendar.boell.de
DTSTAMP:20260424T044229
DESCRIPTION:Heinrich-Böll-Stiftung Washington\, DC - USA\, Kanada\, Global
 er Dialog
END:VEVENT
END:VCALENDAR
