BEGIN:VCALENDAR
VERSION:2.0
PRODID:-//ZContent.net//ZapCalLib 1.0//EN
CALSCALE:GREGORIAN
METHOD:PUBLISH
BEGIN:VEVENT
SUMMARY:Asyl-Monologe | Dokumentarisches Theaterstück und Publikumsgesprä
 ch
DTSTART:20121128T193000
DTEND:20121128T210000
UID:2026-04-24-05-19-37-0-@calendar.boell.de
DTSTAMP:20260424T031937
DESCRIPTION:Landesstiftung Berlin (Bildungswerk)
END:VEVENT
END:VCALENDAR
