BEGIN:VCALENDAR
VERSION:2.0
PRODID:-//ZContent.net//ZapCalLib 1.0//EN
CALSCALE:GREGORIAN
METHOD:PUBLISH
BEGIN:VEVENT
SUMMARY:Asyl-Monologe | Dokumentarisches Theaterstück und Publikumsgesprä
 ch
DTSTART:20121201T193000
DTEND:20121201T210000
UID:2026-04-24-06-41-39-0-@calendar.boell.de
DTSTAMP:20260424T044139
DESCRIPTION:Landesstiftung Berlin (Bildungswerk)
END:VEVENT
END:VCALENDAR
