BEGIN:VCALENDAR
VERSION:2.0
PRODID:-//ZContent.net//ZapCalLib 1.0//EN
CALSCALE:GREGORIAN
METHOD:PUBLISH
BEGIN:VEVENT
SUMMARY:Odysseus.Krieg.Entzug | Eine theatrale Performance unter ärztliche
 r Aufsicht
DTSTART:20121212T200000
DTEND:20121212T220000
UID:2026-04-23-13-50-20-0-@calendar.boell.de
DTSTAMP:20260423T115020
DESCRIPTION:Heinrich-Böll-Stiftung - Bundesstiftung Berlin
END:VEVENT
END:VCALENDAR
