BEGIN:VCALENDAR
VERSION:2.0
PRODID:-//ZContent.net//ZapCalLib 1.0//EN
CALSCALE:GREGORIAN
METHOD:PUBLISH
BEGIN:VEVENT
SUMMARY:Odysseus.Krieg.Entzug | Eine theatrale Performance unter ärztliche
 r Aufsicht
DTSTART:20130110T200000
DTEND:20130113T200000
UID:2026-04-23-18-31-14-0-@calendar.boell.de
DTSTAMP:20260423T163114
DESCRIPTION:Heinrich-Böll-Stiftung - Bundesstiftung Berlin
END:VEVENT
END:VCALENDAR
