BEGIN:VCALENDAR
VERSION:2.0
PRODID:-//ZContent.net//ZapCalLib 1.0//EN
CALSCALE:GREGORIAN
METHOD:PUBLISH
BEGIN:VEVENT
SUMMARY:`Oh - ich bin jetzt KandidatIn!` - Sicheres Auftreten und Argumenti
 eren im Wahlkampf (ausgebucht)
DTSTART:20130302T093000
DTEND:20130302T173000
UID:2026-04-22-21-27-25-0-@calendar.boell.de
DTSTAMP:20260422T192725
DESCRIPTION:Petra-Kelly-Stiftung
END:VEVENT
END:VCALENDAR
