BEGIN:VCALENDAR
VERSION:2.0
PRODID:-//ZContent.net//ZapCalLib 1.0//EN
CALSCALE:GREGORIAN
METHOD:PUBLISH
BEGIN:VEVENT
SUMMARY:(K)ein buch mit sieben Siegeln - das neue Kommunale Haushaltsrecht
DTSTART:20130126T100000
DTEND:20130126T170000
UID:2026-04-23-13-49-55-0-@calendar.boell.de
DTSTAMP:20260423T114955
DESCRIPTION:
END:VEVENT
END:VCALENDAR
