BEGIN:VCALENDAR
VERSION:2.0
PRODID:-//ZContent.net//ZapCalLib 1.0//EN
CALSCALE:GREGORIAN
METHOD:PUBLISH
BEGIN:VEVENT
SUMMARY:Auseinandersetzung mit Konflikten, Konfliktsituationen und Ihren Fo
 lgen und Lösungsstrategien
DTSTART:20121125T143000
DTEND:20121125T170000
UID:2026-04-22-23-07-01-0-@calendar.boell.de
DTSTAMP:20260422T210701
DESCRIPTION:Externe Veranstaltung
END:VEVENT
END:VCALENDAR
