BEGIN:VCALENDAR
VERSION:2.0
PRODID:-//ZContent.net//ZapCalLib 1.0//EN
CALSCALE:GREGORIAN
METHOD:PUBLISH
BEGIN:VEVENT
SUMMARY:Missy on Tour: Würzburg
DTSTART:20121122T190000
DTEND:20121122T210000
UID:2026-04-23-08-38-36-0-@calendar.boell.de
DTSTAMP:20260423T063836
DESCRIPTION:Externe Veranstaltung
END:VEVENT
END:VCALENDAR
