BEGIN:VCALENDAR
VERSION:2.0
PRODID:-//ZContent.net//ZapCalLib 1.0//EN
CALSCALE:GREGORIAN
METHOD:PUBLISH
BEGIN:VEVENT
SUMMARY:Shape the future - 1 Tag - viele Aktionen - weltweit | 8. Internati
 onaler Jugendaktionstag für Klimagerechtigkeit
DTSTART:20121208T000000
DTEND:20121208T000000
UID:2026-04-24-01-58-49-0-@calendar.boell.de
DTSTAMP:20260423T235849
DESCRIPTION:Externe Veranstaltung
END:VEVENT
END:VCALENDAR
