BEGIN:VCALENDAR
VERSION:2.0
PRODID:-//ZContent.net//ZapCalLib 1.0//EN
CALSCALE:GREGORIAN
METHOD:PUBLISH
BEGIN:VEVENT
SUMMARY:`Bitte pflegeleicht, leistungsfähig und nichtbehindert!`  | Vorgeb
 urtliche Diagnostik, neue Eugenik und die Angst vor dem Andersein
DTSTART:20121218T190000
DTEND:20121218T210000
UID:2026-04-22-22-56-35-0-@calendar.boell.de
DTSTAMP:20260422T205635
DESCRIPTION:Landesstiftung Sachsen (Weiterdenken)
END:VEVENT
END:VCALENDAR
