BEGIN:VCALENDAR
VERSION:2.0
PRODID:-//ZContent.net//ZapCalLib 1.0//EN
CALSCALE:GREGORIAN
METHOD:PUBLISH
BEGIN:VEVENT
SUMMARY:Aufstand in Syrien - Welche Wege aus der Gewalt sind möglich?  | D
 ebatten zur internationalen Politik
DTSTART:20121204T193000
DTEND:20121204T213000
UID:2026-04-23-06-56-24-0-@calendar.boell.de
DTSTAMP:20260423T045624
DESCRIPTION:Heinrich-Böll-Stiftung - Bundesstiftung Berlin
END:VEVENT
END:VCALENDAR
