BEGIN:VCALENDAR
VERSION:2.0
PRODID:-//ZContent.net//ZapCalLib 1.0//EN
CALSCALE:GREGORIAN
METHOD:PUBLISH
BEGIN:VEVENT
SUMMARY:Erzählcafé: Wie kann eine Transgender-Biografie zur `Betonlesbe` 
 führen? - Das andere Gespräch | Neue Reihe zur politische Bildung
DTSTART:20121209T180000
DTEND:20121209T193000
UID:2026-04-22-21-30-57-0-@calendar.boell.de
DTSTAMP:20260422T193057
DESCRIPTION:Externe Veranstaltung
END:VEVENT
END:VCALENDAR
