BEGIN:VCALENDAR
VERSION:2.0
PRODID:-//ZContent.net//ZapCalLib 1.0//EN
CALSCALE:GREGORIAN
METHOD:PUBLISH
BEGIN:VEVENT
SUMMARY:Musenküsse - Ist lesbisch-schwule Geschichte nur Liebhaberei? - Da
 s andere Gespräch | Neue Reihe zur politische Bildung
DTSTART:20121216T190000
DTEND:20121216T203000
UID:2026-04-22-22-56-45-0-@calendar.boell.de
DTSTAMP:20260422T205645
DESCRIPTION:Externe Veranstaltung
END:VEVENT
END:VCALENDAR
