BEGIN:VCALENDAR
VERSION:2.0
PRODID:-//ZContent.net//ZapCalLib 1.0//EN
CALSCALE:GREGORIAN
METHOD:PUBLISH
BEGIN:VEVENT
SUMMARY:Die Grünen und Europa |  Von den `Europa-Grünen` 1979 bis zur Eur
 opäischen Grünen Partei heute
DTSTART:20121207T190000
DTEND:20121207T210000
UID:2026-04-25-12-35-27-0-@calendar.boell.de
DTSTAMP:20260425T103527
DESCRIPTION:Heinrich-Böll-Stiftung - Bundesstiftung Berlin
END:VEVENT
END:VCALENDAR
