BEGIN:VCALENDAR
VERSION:2.0
PRODID:-//ZContent.net//ZapCalLib 1.0//EN
CALSCALE:GREGORIAN
METHOD:PUBLISH
BEGIN:VEVENT
SUMMARY:Bewegung auf Nordost - Nur Adler, See und Kiefernwald? | Fahrradbil
 dungsurlaub
DTSTART:20130617T094500
DTEND:20130621T160000
UID:2026-04-22-22-56-04-0-@calendar.boell.de
DTSTAMP:20260422T205604
DESCRIPTION:Landesstiftung Berlin (Bildungswerk)
END:VEVENT
END:VCALENDAR
