BEGIN:VCALENDAR
VERSION:2.0
PRODID:-//ZContent.net//ZapCalLib 1.0//EN
CALSCALE:GREGORIAN
METHOD:PUBLISH
BEGIN:VEVENT
SUMMARY:Mit Fundraising und Mittelakquise neue Wege gehen - Die Einzigartig
 keit (m)einer Organisation | Modul 2 | LÃ¼neburg | Fortbildungsreihe zu FÃ
 ¶rdermittel, Stiftungsgelder, Sponsoring und Spenden
DTSTART:20130528T093000
DTEND:20130528T170000
UID:2026-04-23-01-52-15-0-@calendar.boell.de
DTSTAMP:20260422T235215
DESCRIPTION:Externe Veranstaltung
END:VEVENT
END:VCALENDAR
