BEGIN:VCALENDAR
VERSION:2.0
PRODID:-//ZContent.net//ZapCalLib 1.0//EN
CALSCALE:GREGORIAN
METHOD:PUBLISH
BEGIN:VEVENT
SUMMARY:Mit Fundraising und Mittelakquise neue Wege gehen - Fundraisinginst
 rumente | Modul 3 | Hannover | Fortbildungsreihe zu Fördermittel, Stiftun
 gsgelder, Sponsoring und Spenden
DTSTART:20130612T093000
DTEND:20130612T170000
UID:2026-04-22-22-55-50-0-@calendar.boell.de
DTSTAMP:20260422T205550
DESCRIPTION:Externe Veranstaltung
END:VEVENT
END:VCALENDAR
