BEGIN:VCALENDAR
VERSION:2.0
PRODID:-//ZContent.net//ZapCalLib 1.0//EN
CALSCALE:GREGORIAN
METHOD:PUBLISH
BEGIN:VEVENT
SUMMARY:Mit Fundraising und Mittelakquise neue Wege gehen - Effektive Press
 e- und Öffentlichkeitsarbeit | Modul 4 | Göttingen | Fortbildungsreihe z
 u Fördermittel, Stiftungsgelder, Sponsoring und Spenden
DTSTART:20130808T093000
DTEND:20130808T170000
UID:2021-12-02-03-57-18-0-@calendar.boell.de
DTSTAMP:20211202T025718
DESCRIPTION:Externe Veranstaltung
END:VEVENT
END:VCALENDAR
