BEGIN:VCALENDAR
VERSION:2.0
PRODID:-//ZContent.net//ZapCalLib 1.0//EN
CALSCALE:GREGORIAN
METHOD:PUBLISH
BEGIN:VEVENT
SUMMARY:Mit Fundraising und Mittelakquise neue Wege gehen - Texten fürs Fu
 ndraising | Modul 7 | Lüneburg | Fortbildungsreihe zu Fördermittel, Stif
 tungsgelder, Sponsoring und Spenden
DTSTART:20131119T093000
DTEND:20131119T170000
UID:2026-04-23-02-06-40-0-@calendar.boell.de
DTSTAMP:20260423T000640
DESCRIPTION:Externe Veranstaltung
END:VEVENT
END:VCALENDAR
