BEGIN:VCALENDAR
VERSION:2.0
PRODID:-//ZContent.net//ZapCalLib 1.0//EN
CALSCALE:GREGORIAN
METHOD:PUBLISH
BEGIN:VEVENT
SUMMARY:Mit Fundraising und Mittelakquise neue Wege gehen - Vorstellung der
  Fundraising-Konzepte | Modul 8 | Hannover | Fortbildungsreihe zu Förderm
 ittel, Stiftungsgelder, Sponsoring und Spenden
DTSTART:20131218T093000
DTEND:20131218T170000
UID:2026-04-23-06-57-47-0-@calendar.boell.de
DTSTAMP:20260423T045747
DESCRIPTION:Externe Veranstaltung
END:VEVENT
END:VCALENDAR
