BEGIN:VCALENDAR
VERSION:2.0
PRODID:-//ZContent.net//ZapCalLib 1.0//EN
CALSCALE:GREGORIAN
METHOD:PUBLISH
BEGIN:VEVENT
SUMMARY:Rhetorik - Die Kunst der freien Rede. Einführung | 
DTSTART:20130316T100000
DTEND:20130316T173000
UID:2021-12-02-03-56-29-0-@calendar.boell.de
DTSTAMP:20211202T025629
DESCRIPTION:Landesstiftung Brandenburg
END:VEVENT
END:VCALENDAR
