BEGIN:VCALENDAR
VERSION:2.0
PRODID:-//ZContent.net//ZapCalLib 1.0//EN
CALSCALE:GREGORIAN
METHOD:PUBLISH
BEGIN:VEVENT
SUMMARY:Projekmanagement I - Grundlagenseminar
DTSTART:20130420T100000
DTEND:20130420T173000
UID:2026-04-23-20-25-19-0-@calendar.boell.de
DTSTAMP:20260423T182519
DESCRIPTION:Landesstiftung Brandenburg
END:VEVENT
END:VCALENDAR
