BEGIN:VCALENDAR
VERSION:2.0
PRODID:-//ZContent.net//ZapCalLib 1.0//EN
CALSCALE:GREGORIAN
METHOD:PUBLISH
BEGIN:VEVENT
SUMMARY:Rhetorik I - Spezialtechnik Storytelling | 
DTSTART:20130504T100000
DTEND:20130504T173000
UID:2021-12-02-03-56-38-0-@calendar.boell.de
DTSTAMP:20211202T025638
DESCRIPTION:Landesstiftung Brandenburg
END:VEVENT
END:VCALENDAR
