BEGIN:VCALENDAR
VERSION:2.0
PRODID:-//ZContent.net//ZapCalLib 1.0//EN
CALSCALE:GREGORIAN
METHOD:PUBLISH
BEGIN:VEVENT
SUMMARY:Rhetorik für Frauen - Anfängerinnen | 
DTSTART:20130601T100000
DTEND:20130601T173000
UID:2021-12-02-03-56-21-0-@calendar.boell.de
DTSTAMP:20211202T025621
DESCRIPTION:Landesstiftung Brandenburg
END:VEVENT
END:VCALENDAR
