BEGIN:VCALENDAR
VERSION:2.0
PRODID:-//ZContent.net//ZapCalLib 1.0//EN
CALSCALE:GREGORIAN
METHOD:PUBLISH
BEGIN:VEVENT
SUMMARY:Europe through War and Peace: A Nobel Prize and an Uncertain Future
  | 
DTSTART:20121207T130000
DTEND:20121207T140000
UID:2021-12-02-03-56-16-0-@calendar.boell.de
DTSTAMP:20211202T025616
DESCRIPTION:Heinrich-Böll-Stiftung Washington\, DC - USA\, Kanada\, Global
 er Dialog
END:VEVENT
END:VCALENDAR
