BEGIN:VCALENDAR
VERSION:2.0
PRODID:-//ZContent.net//ZapCalLib 1.0//EN
CALSCALE:GREGORIAN
METHOD:PUBLISH
BEGIN:VEVENT
SUMMARY:The Tip of the Iceberg: Natural Resource Conflicts in Afghanistan |
  A Political Salon with Renard Sexton
DTSTART:20121211T183000
DTEND:20121211T200000
UID:2026-04-23-17-19-58-0-@calendar.boell.de
DTSTAMP:20260423T151958
DESCRIPTION:Heinrich-Böll-Stiftung Washington\, DC - USA\, Kanada\, Global
 er Dialog
END:VEVENT
END:VCALENDAR
