BEGIN:VCALENDAR
VERSION:2.0
PRODID:-//ZContent.net//ZapCalLib 1.0//EN
CALSCALE:GREGORIAN
METHOD:PUBLISH
BEGIN:VEVENT
SUMMARY:Bildungsreise nach Serbien / Bosnien und Herzegowina | 
DTSTART:20130622T100000
DTEND:20130630T100000
UID:2021-12-02-03-56-22-0-@calendar.boell.de
DTSTAMP:20211202T025622
DESCRIPTION:Landesstiftung Brandenburg
END:VEVENT
END:VCALENDAR
