BEGIN:VCALENDAR
VERSION:2.0
PRODID:-//ZContent.net//ZapCalLib 1.0//EN
CALSCALE:GREGORIAN
METHOD:PUBLISH
BEGIN:VEVENT
SUMMARY:Rhetorik für Frauen II - Fortgeschrittene
DTSTART:20130914T100000
DTEND:20130914T173000
UID:2026-04-23-02-06-59-0-@calendar.boell.de
DTSTAMP:20260423T000659
DESCRIPTION:Landesstiftung Brandenburg
END:VEVENT
END:VCALENDAR
