BEGIN:VCALENDAR
VERSION:2.0
PRODID:-//ZContent.net//ZapCalLib 1.0//EN
CALSCALE:GREGORIAN
METHOD:PUBLISH
BEGIN:VEVENT
SUMMARY:Gruppenmoderationstechniken. Techniken und Methoden der Moderation 
 | 
DTSTART:20130921T100000
DTEND:20130921T173000
UID:2021-12-02-03-56-22-0-@calendar.boell.de
DTSTAMP:20211202T025622
DESCRIPTION:Landesstiftung Brandenburg
END:VEVENT
END:VCALENDAR
