BEGIN:VCALENDAR
VERSION:2.0
PRODID:-//ZContent.net//ZapCalLib 1.0//EN
CALSCALE:GREGORIAN
METHOD:PUBLISH
BEGIN:VEVENT
SUMMARY:Diskotieren fürs Grundeinsingen | Grundsicherungsmodelle und die Z
 ukunft der Postwachstumsgesellschaft feministisch betrachten
DTSTART:20121212T200000
DTEND:20121212T220000
UID:2026-04-23-06-10-16-0-@calendar.boell.de
DTSTAMP:20260423T041016
DESCRIPTION:Gunda-Werner-Institut für Feminismus und Geschlechterdemokrati
 e
END:VEVENT
END:VCALENDAR
