BEGIN:VCALENDAR
VERSION:2.0
PRODID:-//ZContent.net//ZapCalLib 1.0//EN
CALSCALE:GREGORIAN
METHOD:PUBLISH
BEGIN:VEVENT
SUMMARY:Diskotieren fürs Grundeinsingen | Grundsicherungsmodelle und die Z
 ukunft der Postwachstumsgesellschaft feministisch betrachten
DTSTART:20130305T200000
DTEND:20130305T220000
UID:2021-12-02-01-53-36-0-@calendar.boell.de
DTSTAMP:20211202T005336
DESCRIPTION:Externe Veranstaltung
END:VEVENT
END:VCALENDAR
