BEGIN:VCALENDAR
VERSION:2.0
PRODID:-//ZContent.net//ZapCalLib 1.0//EN
CALSCALE:GREGORIAN
METHOD:PUBLISH
BEGIN:VEVENT
SUMMARY:Gerbrand Bakker: Der Umweg  | Der Literarische Abend
DTSTART:20130122T201500
DTEND:20130122T220000
UID:2021-12-02-01-52-58-0-@calendar.boell.de
DTSTAMP:20211202T005258
DESCRIPTION:Heinrich-Böll-Stiftung - Bundesstiftung Berlin
END:VEVENT
END:VCALENDAR
