BEGIN:VCALENDAR
VERSION:2.0
PRODID:-//ZContent.net//ZapCalLib 1.0//EN
CALSCALE:GREGORIAN
METHOD:PUBLISH
BEGIN:VEVENT
SUMMARY:Inklusives Wohnen. Chancen und Herausforderungen für Rostock | 
DTSTART:20121108T160000
DTEND:20121108T190000
UID:2021-12-02-01-53-07-0-@calendar.boell.de
DTSTAMP:20211202T005307
DESCRIPTION:Landesstiftung Mecklenburg-Vorpommern
END:VEVENT
END:VCALENDAR
