BEGIN:VCALENDAR
VERSION:2.0
PRODID:-//ZContent.net//ZapCalLib 1.0//EN
CALSCALE:GREGORIAN
METHOD:PUBLISH
BEGIN:VEVENT
SUMMARY:Umwelt- und Solarregion Freiburg | Zukunftsorientierung im Dreilän
 dereck
DTSTART:20130811T093000
DTEND:20130816T170000
UID:2026-04-24-01-58-54-0-@calendar.boell.de
DTSTAMP:20260423T235854
DESCRIPTION:Landesstiftung Hamburg
END:VEVENT
END:VCALENDAR
